BEGIN:VCALENDAR
VERSION:2.0
PRODID:-//Bradley Fair - ECPv6.8.3//NONSGML v1.0//EN
CALSCALE:GREGORIAN
METHOD:PUBLISH
X-WR-CALNAME:Bradley Fair
X-ORIGINAL-URL:https://bradleyfair.com
X-WR-CALDESC:Events for Bradley Fair
REFRESH-INTERVAL;VALUE=DURATION:PT1H
X-Robots-Tag:noindex
X-PUBLISHED-TTL:PT1H
BEGIN:VTIMEZONE
TZID:UTC
BEGIN:STANDARD
TZOFFSETFROM:+0000
TZOFFSETTO:+0000
TZNAME:UTC
DTSTART:20260101T000000
END:STANDARD
END:VTIMEZONE
BEGIN:VEVENT
DTSTART;TZID=UTC:20260502T130000
DTEND;TZID=UTC:20260502T150000
DTSTAMP:20260425T141735
CREATED:20260414T190305Z
LAST-MODIFIED:20260414T190305Z
UID:6343-1777726800-1777734000@bradleyfair.com
SUMMARY:Star Wars Lego Mini Build at Barnes & Noble
DESCRIPTION:Join Barnes & Noble for a fun-filled afternoon of creativity and imagination. Young builders are invited to take part in a special Star Wars LEGO® Mini Build event—perfect for fans of all ages. \nParticipants will have the opportunity to build their very own LEGO® creation while supplies last. Kits are limited\, so early reservations are highly encouraged. \nTo reserve your spot\, please call Barnes & Noble at 316-315-0421. \nCome build\, explore\, and enjoy a playful afternoon at Barnes & Noble.
URL:https://bradleyfair.com/event/star-wars-lego-mini-build-at-barnes-noble/
ATTACH;FMTTYPE=image/jpeg:https://bradleyfair.com/wp-content/uploads/sites/13/2026/03/Newsletter-10.jpg
END:VEVENT
END:VCALENDAR